View In:
ArcGIS JavaScript
ArcGIS Online Map Viewer
ArcGIS Earth
ArcGIS Pro
Service Description: This is cached aerial imagery. It is cached to comply with current standards by Esri, Bing, and Google tiles. It is cached in WGS_1984_Web_Mercator_Auxiliary_Sphere, WKID :3857.
Map Name: Layers
Legend
All Layers and Tables
Layers:
Description: This is cached aerial imagery. It is cached to comply with current standards by Esri, Bing, and Google tiles. It is cached in WGS_1984_Web_Mercator_Auxiliary_Sphere, WKID :3857.
Service Item Id: 584acdf3ce334396b525b13aa5fdd12b
Copyright Text: Clermont County Ohio Auditor's Office
Spatial Reference:
102100
(3857)
LatestVCSWkid(0)
Single Fused Map Cache: true
Tile Info:
- Height: 256.0
- Width: 256.0
- DPI: 96.0
-
Levels of Detail: 20
-
Level ID: 0
[ Start Tile, End Tile ]
- Resolution: 156543.03392800014
- Scale: 5.91657527591555E8
-
Level ID: 1
[ Start Tile, End Tile ]
- Resolution: 78271.51696399994
- Scale: 2.95828763795777E8
-
Level ID: 2
[ Start Tile, End Tile ]
- Resolution: 39135.75848200009
- Scale: 1.47914381897889E8
-
Level ID: 3
[ Start Tile, End Tile ]
- Resolution: 19567.87924099992
- Scale: 7.3957190948944E7
-
Level ID: 4
[ Start Tile, End Tile ]
- Resolution: 9783.93962049996
- Scale: 3.6978595474472E7
-
Level ID: 5
[ Start Tile, End Tile ]
- Resolution: 4891.96981024998
- Scale: 1.8489297737236E7
- Format: MIXED
- Compression Quality: 75.0
- Origin: X: -2.0037508342787E7
Y: 2.0037508342787E7
- Spatial Reference: 102100
(3857)
LatestVCSWkid(0)
Storage Info:
- Storage Format: esriMapCacheStorageModeCompact
- Packet Size: 128
Initial Extent:
XMin: -9414518.940581625
YMin: 4693774.206443054
XMax: -9322212.233318375
YMax: 4752138.831448053
Spatial Reference: 102100
(3857)
LatestVCSWkid(0)
Full Extent:
XMin: -9386469.7301
YMin: 4689045.6479
XMax: -9349715.4412
YMax: 4760536.361400001
Spatial Reference: 102100
(3857)
LatestVCSWkid(0)
Units: esriMeters
Supported Image Format Types: PNG32,PNG24,PNG,JPG,DIB,TIFF,EMF,PS,PDF,GIF,SVG,SVGZ,BMP
Document Info:
Title: AGS MapService Migration.aprx
Author:
Comments: This is cached aerial imagery. It is cached to comply with current standards by Esri, Bing, and Google tiles. It is cached in WGS_1984_Web_Mercator_Auxiliary_Sphere, WKID :3857.
Subject: Clermont County Ohio 2012 Ortho Imagery
Category:
Keywords: Clermont County Ohio Ortho Imagery
AntialiasingMode: None
TextAntialiasingMode: Force
Supports Dynamic Layers: false
Resampling: true
MaxRecordCount: 1000
MaxSelectionCount: 2000
MaxImageHeight: 4096
MaxImageWidth: 4096
Supported Query Formats: JSON, geoJSON, PBF
Supports Query Data Elements: true
Min Scale: 1155581.108577
Max Scale: 300
Supports Datum Transformation: true
Child Resources:
Info
Supported Operations:
Export Map
Identify
QueryLegends
QueryDomains
Find
Return Updates